BEGIN:VCALENDAR
VERSION:2.0
PRODID:-//Squarespace Inc/Squarespace 6//v6//EN
BEGIN:VEVENT
UID:58f33acbf5e231b3253b1ecf@squarespace.com
DTSTAMP:20170629T033833Z
DTSTART:20170423T063000Z
DTEND:20170423T080000Z
SUMMARY:Two The Well - Live
GEO:-40.944669;175.640305
LOCATION:Masterton Community Church\, 117 Ngaumutawa Road\, Masterton\, Wel
 lington\, 5810\, New Zealand
END:VEVENT
END:VCALENDAR
