BEGIN:VCALENDAR
VERSION:2.0
PRODID:-//Squarespace Inc/Squarespace 6//v6//EN
BEGIN:VEVENT
UID:579c1e58cd0f685ac1b9b4a7@squarespace.com
DTSTAMP:20160730T103124Z
DTSTART:20160807T070000Z
DTEND:20160807T090000Z
SUMMARY:Lost&Found
GEO:-40.958407;175.641912
LOCATION:Lighthouse Church Foyer\, 23 Intermediate Street\, Masterton\, Wel
 lington\, 5810\, New Zealand
END:VEVENT
END:VCALENDAR
