BEGIN:VCALENDAR
VERSION:2.0
PRODID:-//Squarespace Inc/Squarespace 6//v6//EN
BEGIN:VEVENT
UID:5a385fa753450a165128254c@squarespace.com
DTSTAMP:20171226T233610Z
DTSTART:20180106T050000Z
DTEND:20180106T070000Z
SUMMARY:Two The Well - Dinner\, Desserts + Live Music
GEO:-40.950541;175.66013
LOCATION:Ten O'clock Cookie Bakery Cafe
END:VEVENT
END:VCALENDAR
