BEGIN:VCALENDAR
VERSION:2.0
PRODID:-//Squarespace Inc/Squarespace 6//v6//EN
BEGIN:VEVENT
UID:592c9710cd0f6872ec574675@squarespace.com
DTSTAMP:20170629T035415Z
DTSTART:20170604T050000Z
DTEND:20170604T070000Z
SUMMARY:Lost&Found - Palmerston North
GEO:-40.355289;175.609479
LOCATION:Hope Vineyard\, 156 The Square\, Palmerston North\, Manawatu-Wanga
 nui\, 4410\, New Zealand
END:VEVENT
END:VCALENDAR
