BEGIN:VCALENDAR
VERSION:2.0
PRODID:-//Squarespace Inc/Squarespace 6//v6//EN
BEGIN:VEVENT
UID:5954764b440243d095312b78@squarespace.com
DTSTAMP:20170811T041136Z
DTSTART:20170812T073000Z
DTEND:20170812T090000Z
SUMMARY:Lost&Found - Masterton
GEO:-40.958407;175.641912
LOCATION:Lighthouse Church Cafe\, 23 Intermediate Street\, Masterton\, Well
 ington\, 5810\, New Zealand
END:VEVENT
END:VCALENDAR
